BEGIN:VCALENDAR
VERSION:2.0
PRODID:-//Satpuda Group - ECPv5.7.0//NONSGML v1.0//EN
CALSCALE:GREGORIAN
METHOD:PUBLISH
X-WR-CALNAME:Satpuda Group
X-ORIGINAL-URL:http://ardentsatpuda.satpudaiti.com
X-WR-CALDESC:Events for Satpuda Group
BEGIN:VTIMEZONE
TZID:UTC
BEGIN:STANDARD
TZOFFSETFROM:+0000
TZOFFSETTO:+0000
TZNAME:UTC
DTSTART:20210101T000000
END:STANDARD
END:VTIMEZONE
BEGIN:VEVENT
DTSTART;TZID=UTC:20210930T080000
DTEND;TZID=UTC:20210930T170000
DTSTAMP:20260420T042224
CREATED:20210717T063500Z
LAST-MODIFIED:20210717T064001Z
UID:9365-1632988800-1633021200@ardentsatpuda.satpudaiti.com
SUMMARY:Project Exhibition
DESCRIPTION:Student Project Exhibition PROJECT EXHIBITION was organised by the Satpuda Group on ‎Tuesday\, ‎October ‎16\, ‎2018. Satpuda Polytechnic College first year and second year students as well as satpuda iti students had participated in Project Exhibition. \nMajor objective of organising this exhibition was to provide the platform and unleash the potential of the students by showcasing their innovative projects developed in the First Year either as Industry Defined Problem or User Defined Problem and provide an opportunity for the students to demonstrate their learning experience. \nThe outcome of the PROJECT EXHIBITION was that students were able to show their project at higher level and the process boosted their confidence.
URL:http://ardentsatpuda.satpudaiti.com/event/project-exhibition/
CATEGORIES:Events
END:VEVENT
BEGIN:VEVENT
DTSTART;VALUE=DATE:20210925
DTEND;VALUE=DATE:20210926
DTSTAMP:20260420T042224
CREATED:20210717T063306Z
LAST-MODIFIED:20210717T064033Z
UID:9362-1632528000-1632614399@ardentsatpuda.satpudaiti.com
SUMMARY:Independence Day Celebration
DESCRIPTION:Satpuda Polytechnic College\, Balaghat celebrated the Independence Day to re-experience the spirit of patriotism and to honour the glorious past of our country. The celebration began with the arrival of Mr. Sanjeev Mishra Sir(Satpuda’s Head)\, Directors\, Student and faculty members. \nAfter the National Anthem\, which raised the patriotic fervour in the crowd\, the event moved on with the performance of the cultural clubs of the university. The Dramatics Club energised the day by tapping their feet on the Bollywood beats that made the audience proud on being associated with the life in India.
URL:http://ardentsatpuda.satpudaiti.com/event/independence-day-celebration/
CATEGORIES:Events
ATTACH;FMTTYPE=image/jpeg:http://ardentsatpuda.satpudaiti.com/wp-content/uploads/2021/05/iday.jpeg
END:VEVENT
BEGIN:VEVENT
DTSTART;VALUE=DATE:20210822
DTEND;VALUE=DATE:20210823
DTSTAMP:20260420T042224
CREATED:20210717T062619Z
LAST-MODIFIED:20210717T064104Z
UID:9356-1629590400-1629676799@ardentsatpuda.satpudaiti.com
SUMMARY:Annual Day Celebration
DESCRIPTION:One of the most anxiously awaited occasions each year in any college is its annual day. Great excitement and joyful activities are visible all around.\nThis is the day where one discovers as the colors of cultural feast unfold! The prize-winners and those who are participating in the cultural program to be presented in Satpuda Campus on that day are especially elated.
URL:http://ardentsatpuda.satpudaiti.com/event/annual-day-celebration/
LOCATION:Satpuda\, India
CATEGORIES:Events
ATTACH;FMTTYPE=image/jpeg:http://ardentsatpuda.satpudaiti.com/wp-content/uploads/2021/05/annual.jpeg
END:VEVENT
END:VCALENDAR