BEGIN:VCALENDAR
VERSION:2.0
PRODID:-//Satpuda ITI - ECPv5.14.0.1//NONSGML v1.0//EN
CALSCALE:GREGORIAN
METHOD:PUBLISH
X-WR-CALNAME:Satpuda ITI
X-ORIGINAL-URL:http://ardentsatpuda.satpudaiti.com/iti
X-WR-CALDESC:Events for Satpuda ITI
REFRESH-INTERVAL;VALUE=DURATION:PT1H
X-Robots-Tag:noindex
X-PUBLISHED-TTL:PT1H
BEGIN:VTIMEZONE
TZID:UTC
BEGIN:STANDARD
TZOFFSETFROM:+0000
TZOFFSETTO:+0000
TZNAME:UTC
DTSTART:20220101T000000
END:STANDARD
END:VTIMEZONE
BEGIN:VEVENT
DTSTART;TZID=UTC:20220222T080000
DTEND;TZID=UTC:20220222T170000
DTSTAMP:20260421T100122
CREATED:20220222T171523Z
LAST-MODIFIED:20220222T171523Z
UID:9559-1645516800-1645549200@ardentsatpuda.satpudaiti.com
SUMMARY:Project Exhibition
DESCRIPTION:Student Project Exhibition PROJECT EXHIBITION was organised by the Satpuda Group on ‎Tuesday\, ‎October ‎16\, ‎2018. Satpuda Polytechnic College first year and second year students as well as satpuda iti students had participated in Project Exhibition. \nMajor objective of organising this exhibition was to provide the platform and unleash the potential of the students by showcasing their innovative projects developed in the First Year either as Industry Defined Problem or User Defined Problem and provide an opportunity for the students to demonstrate their learning experience. \nThe outcome of the PROJECT EXHIBITION was that students were able to show their project at higher level and the process boosted their confidence.
URL:http://ardentsatpuda.satpudaiti.com/iti/event/project-exhibition/
CATEGORIES:Events
END:VEVENT
END:VCALENDAR